Package: genomation Version: 1.39.0 Command: /home/biocbuild/bbs-3.21-bioc/R/bin/R CMD INSTALL genomation StartedAt: 2025-02-03 15:37:11 -0500 (Mon, 03 Feb 2025) EndedAt: 2025-02-03 15:38:00 -0500 (Mon, 03 Feb 2025) EllapsedTime: 49.3 seconds RetCode: 0 Status: OK