Package: genomation Version: 1.39.0 Command: rm -rf genomation.buildbin-libdir && mkdir genomation.buildbin-libdir && E:\biocbuild\bbs-3.21-bioc\R\bin\R.exe CMD INSTALL --build --library=genomation.buildbin-libdir genomation_1.39.0.tar.gz StartedAt: 2025-02-04 08:02:21 -0500 (Tue, 04 Feb 2025) EndedAt: 2025-02-04 08:03:50 -0500 (Tue, 04 Feb 2025) EllapsedTime: 89.0 seconds RetCode: 0 Status: OK PackageFile: genomation_1.39.0.zip PackageFileSize: 3.327 MiB