Package: genomation Version: 1.39.0 Command: chmod a+r genomation -R && E:\biocbuild\bbs-3.21-bioc\R\bin\R.exe CMD build --keep-empty-dirs --no-resave-data genomation StartedAt: 2025-02-09 18:53:00 -0500 (Sun, 09 Feb 2025) EndedAt: 2025-02-09 18:54:56 -0500 (Sun, 09 Feb 2025) EllapsedTime: 116.1 seconds RetCode: 0 Status: OK PackageFile: genomation_1.39.0.tar.gz PackageFileSize: 6.005 MiB