Package: genomation Version: 1.39.0 Command: E:\biocbuild\bbs-3.21-bioc\R\bin\R.exe CMD INSTALL genomation StartedAt: 2025-02-09 16:34:39 -0500 (Sun, 09 Feb 2025) EndedAt: 2025-02-09 16:36:30 -0500 (Sun, 09 Feb 2025) EllapsedTime: 110.9 seconds RetCode: 0 Status: OK