Package: genomeIntervals Version: 1.63.0 Command: /home/biocbuild/R/R/bin/R CMD check --install=check:genomeIntervals.install-out.txt --library=/home/biocbuild/R/R/site-library --no-vignettes --timings genomeIntervals_1.63.0.tar.gz StartedAt: 2025-01-28 10:54:01 -0000 (Tue, 28 Jan 2025) EndedAt: 2025-01-28 10:55:55 -0000 (Tue, 28 Jan 2025) EllapsedTime: 114.1 seconds RetCode: 0 Status: WARNINGS CheckDir: genomeIntervals.Rcheck Warnings: 1