Package: genomeIntervals Version: 1.63.0 Command: /home/biocbuild/R/R/bin/R CMD INSTALL genomeIntervals StartedAt: 2025-01-29 19:37:55 -0000 (Wed, 29 Jan 2025) EndedAt: 2025-01-29 19:38:13 -0000 (Wed, 29 Jan 2025) EllapsedTime: 18.5 seconds RetCode: 0 Status: OK