Package: genomeIntervals Version: 1.63.0 Command: rm -rf genomeIntervals.buildbin-libdir && mkdir genomeIntervals.buildbin-libdir && /Users/biocbuild/BBS/utils/build-universal.sh genomeIntervals_1.63.0.tar.gz /Library/Frameworks/R.framework/Resources/bin/R genomeIntervals.buildbin-libdir StartedAt: 2025-02-10 00:55:05 -0500 (Mon, 10 Feb 2025) EndedAt: 2025-02-10 00:55:27 -0500 (Mon, 10 Feb 2025) EllapsedTime: 21.7 seconds RetCode: 0 Status: OK PackageFile: genomeIntervals_1.63.0.tgz PackageFileSize: 684.6 KiB