Package: genomeIntervals Version: 1.63.0 Command: /Library/Frameworks/R.framework/Resources/bin/R CMD build --keep-empty-dirs --no-resave-data genomeIntervals StartedAt: 2025-02-09 16:51:44 -0500 (Sun, 09 Feb 2025) EndedAt: 2025-02-09 16:52:12 -0500 (Sun, 09 Feb 2025) EllapsedTime: 27.4 seconds RetCode: 0 Status: OK PackageFile: genomeIntervals_1.63.0.tar.gz PackageFileSize: 256.5 KiB