Package: genomeIntervals Version: 1.63.0 Command: /home/biocbuild/bbs-3.21-bioc/R/bin/R CMD check --install=check:genomeIntervals.install-out.txt --library=/home/biocbuild/bbs-3.21-bioc/R/site-library --timings genomeIntervals_1.63.0.tar.gz StartedAt: 2025-02-09 22:35:12 -0500 (Sun, 09 Feb 2025) EndedAt: 2025-02-09 22:36:46 -0500 (Sun, 09 Feb 2025) EllapsedTime: 94.1 seconds RetCode: 0 Status: WARNINGS CheckDir: genomeIntervals.Rcheck Warnings: 1