Package: genomeIntervals Version: 1.63.0 Command: chmod a+r genomeIntervals -R && E:\biocbuild\bbs-3.21-bioc\R\bin\R.exe CMD build --keep-empty-dirs --no-resave-data genomeIntervals StartedAt: 2025-02-09 18:53:13 -0500 (Sun, 09 Feb 2025) EndedAt: 2025-02-09 18:53:56 -0500 (Sun, 09 Feb 2025) EllapsedTime: 43.9 seconds RetCode: 0 Status: OK PackageFile: genomeIntervals_1.63.0.tar.gz PackageFileSize: 140.6 KiB