Package: genomeIntervals Version: 1.63.0 Command: E:\biocbuild\bbs-3.21-bioc\R\bin\R.exe CMD check --no-multiarch --install=check:genomeIntervals.install-out.txt --library=E:\biocbuild\bbs-3.21-bioc\R\library --no-vignettes --timings genomeIntervals_1.63.0.tar.gz StartedAt: 2025-02-13 01:34:26 -0500 (Thu, 13 Feb 2025) EndedAt: 2025-02-13 01:36:16 -0500 (Thu, 13 Feb 2025) EllapsedTime: 110.2 seconds RetCode: 0 Status: WARNINGS CheckDir: genomeIntervals.Rcheck Warnings: 1