Package: genomeIntervals Version: 1.63.0 Command: E:\biocbuild\bbs-3.21-bioc\R\bin\R.exe CMD INSTALL genomeIntervals StartedAt: 2025-02-09 15:36:55 -0500 (Sun, 09 Feb 2025) EndedAt: 2025-02-09 15:38:18 -0500 (Sun, 09 Feb 2025) EllapsedTime: 83.5 seconds RetCode: 0 Status: OK