Package: genomes Version: 3.37.0 Command: /Library/Frameworks/R.framework/Resources/bin/R CMD build --keep-empty-dirs --no-resave-data genomes StartedAt: 2025-02-09 16:24:55 -0500 (Sun, 09 Feb 2025) EndedAt: 2025-02-09 16:24:59 -0500 (Sun, 09 Feb 2025) EllapsedTime: 4.0 seconds RetCode: 0 Status: OK PackageFile: genomes_3.37.0.tar.gz PackageFileSize: 98.73 KiB