Package: genomes Version: 3.37.0 Command: rm -rf genomes.buildbin-libdir && mkdir genomes.buildbin-libdir && E:\biocbuild\bbs-3.21-bioc\R\bin\R.exe CMD INSTALL --build --library=genomes.buildbin-libdir genomes_3.37.0.tar.gz StartedAt: 2025-02-13 07:59:55 -0500 (Thu, 13 Feb 2025) EndedAt: 2025-02-13 08:00:04 -0500 (Thu, 13 Feb 2025) EllapsedTime: 8.1 seconds RetCode: 0 Status: OK PackageFile: genomes_3.37.0.zip PackageFileSize: 49.94 KiB