Package: genomes Version: 3.37.0 Command: E:\biocbuild\bbs-3.21-bioc\R\bin\R.exe CMD INSTALL genomes StartedAt: 2025-02-09 15:25:28 -0500 (Sun, 09 Feb 2025) EndedAt: 2025-02-09 15:25:40 -0500 (Sun, 09 Feb 2025) EllapsedTime: 12.0 seconds RetCode: 0 Status: OK