Package: genomicInstability Version: 1.13.0 Command: rm -rf genomicInstability.buildbin-libdir && mkdir genomicInstability.buildbin-libdir && /Users/biocbuild/BBS/utils/build-universal.sh genomicInstability_1.13.0.tar.gz /Library/Frameworks/R.framework/Resources/bin/R genomicInstability.buildbin-libdir StartedAt: 2025-02-09 22:15:38 -0500 (Sun, 09 Feb 2025) EndedAt: 2025-02-09 22:15:50 -0500 (Sun, 09 Feb 2025) EllapsedTime: 12.2 seconds RetCode: 0 Status: OK PackageFile: genomicInstability_1.13.0.tgz PackageFileSize: 1.267 MiB