Package: genomicInstability Version: 1.13.0 Command: /Library/Frameworks/R.framework/Resources/bin/R CMD check --install=check:genomicInstability.install-out.txt --library=/Library/Frameworks/R.framework/Resources/library --no-vignettes --timings genomicInstability_1.13.0.tar.gz StartedAt: 2025-02-09 19:23:07 -0500 (Sun, 09 Feb 2025) EndedAt: 2025-02-09 19:25:00 -0500 (Sun, 09 Feb 2025) EllapsedTime: 113.3 seconds RetCode: 0 Status: OK CheckDir: genomicInstability.Rcheck Warnings: 0