Package: genomicInstability Version: 1.13.0 Command: /home/biocbuild/bbs-3.21-bioc/R/bin/R CMD INSTALL genomicInstability StartedAt: 2025-02-04 15:28:13 -0500 (Tue, 04 Feb 2025) EndedAt: 2025-02-04 15:28:37 -0500 (Tue, 04 Feb 2025) EllapsedTime: 24.8 seconds RetCode: 0 Status: OK