Package: genomicInstability Version: 1.13.0 Command: chmod a+r genomicInstability -R && E:\biocbuild\bbs-3.21-bioc\R\bin\R.exe CMD build --keep-empty-dirs --no-resave-data genomicInstability StartedAt: 2025-02-09 18:53:57 -0500 (Sun, 09 Feb 2025) EndedAt: 2025-02-09 18:56:20 -0500 (Sun, 09 Feb 2025) EllapsedTime: 142.8 seconds RetCode: 0 Status: OK PackageFile: genomicInstability_1.13.0.tar.gz PackageFileSize: 1.029 MiB