Package: genomicInstability Version: 1.13.0 Command: E:\biocbuild\bbs-3.21-bioc\R\bin\R.exe CMD check --no-multiarch --install=check:genomicInstability.install-out.txt --library=E:\biocbuild\bbs-3.21-bioc\R\library --no-vignettes --timings genomicInstability_1.13.0.tar.gz StartedAt: 2025-02-13 01:35:11 -0500 (Thu, 13 Feb 2025) EndedAt: 2025-02-13 01:40:51 -0500 (Thu, 13 Feb 2025) EllapsedTime: 340.0 seconds RetCode: 0 Status: OK CheckDir: genomicInstability.Rcheck Warnings: 0