Package: geomeTriD Version: 1.1.8 Command: /Library/Frameworks/R.framework/Resources/bin/R CMD build --keep-empty-dirs --no-resave-data geomeTriD StartedAt: 2025-02-12 16:26:30 -0500 (Wed, 12 Feb 2025) EndedAt: 2025-02-12 16:27:08 -0500 (Wed, 12 Feb 2025) EllapsedTime: 38.4 seconds RetCode: 0 Status: OK PackageFile: geomeTriD_1.1.8.tar.gz PackageFileSize: 1.087 MiB