Package: geomeTriD Version: 1.1.8 Command: /home/biocbuild/R/R/bin/R CMD INSTALL geomeTriD StartedAt: 2025-01-29 20:12:49 -0000 (Wed, 29 Jan 2025) EndedAt: 2025-01-29 20:14:08 -0000 (Wed, 29 Jan 2025) EllapsedTime: 78.8 seconds RetCode: 0 Status: OK