Package: geomeTriD Version: 1.1.8 Command: /Library/Frameworks/R.framework/Resources/bin/R CMD build --keep-empty-dirs --no-resave-data geomeTriD StartedAt: 2025-02-12 16:51:07 -0500 (Wed, 12 Feb 2025) EndedAt: 2025-02-12 16:52:47 -0500 (Wed, 12 Feb 2025) EllapsedTime: 99.5 seconds RetCode: 0 Status: OK PackageFile: geomeTriD_1.1.8.tar.gz PackageFileSize: 1.081 MiB