Package: geomeTriD Version: 1.1.8 Command: /home/biocbuild/bbs-3.21-bioc/R/bin/R CMD check --install=check:geomeTriD.install-out.txt --library=/home/biocbuild/bbs-3.21-bioc/R/site-library --timings geomeTriD_1.1.8.tar.gz StartedAt: 2025-02-09 22:42:09 -0500 (Sun, 09 Feb 2025) EndedAt: 2025-02-09 22:49:22 -0500 (Sun, 09 Feb 2025) EllapsedTime: 432.8 seconds RetCode: 0 Status: OK CheckDir: geomeTriD.Rcheck Warnings: 0