Package: geomeTriD Version: 1.1.8 Command: rm -rf geomeTriD.buildbin-libdir && mkdir geomeTriD.buildbin-libdir && E:\biocbuild\bbs-3.21-bioc\R\bin\R.exe CMD INSTALL --build --library=geomeTriD.buildbin-libdir geomeTriD_1.1.8.tar.gz StartedAt: 2025-02-10 07:50:22 -0500 (Mon, 10 Feb 2025) EndedAt: 2025-02-10 07:51:34 -0500 (Mon, 10 Feb 2025) EllapsedTime: 72.2 seconds RetCode: 0 Status: OK PackageFile: geomeTriD_1.1.8.zip PackageFileSize: 1.362 MiB