Package: geomeTriD Version: 1.1.8 Command: chmod a+r geomeTriD -R && E:\biocbuild\bbs-3.21-bioc\R\bin\R.exe CMD build --keep-empty-dirs --no-resave-data geomeTriD StartedAt: 2025-02-09 18:56:33 -0500 (Sun, 09 Feb 2025) EndedAt: 2025-02-09 18:58:28 -0500 (Sun, 09 Feb 2025) EllapsedTime: 115.2 seconds RetCode: 0 Status: OK PackageFile: geomeTriD_1.1.8.tar.gz PackageFileSize: 920.1 KiB