Package: geomeTriD Version: 1.1.8 Command: E:\biocbuild\bbs-3.21-bioc\R\bin\R.exe CMD INSTALL geomeTriD StartedAt: 2025-02-12 16:39:54 -0500 (Wed, 12 Feb 2025) EndedAt: 2025-02-12 16:41:03 -0500 (Wed, 12 Feb 2025) EllapsedTime: 69.2 seconds RetCode: 0 Status: OK