Package: gep2pep Version: 1.27.0 Command: /Library/Frameworks/R.framework/Resources/bin/R CMD INSTALL gep2pep StartedAt: 2025-02-09 15:28:14 -0500 (Sun, 09 Feb 2025) EndedAt: 2025-02-09 15:28:37 -0500 (Sun, 09 Feb 2025) EllapsedTime: 22.5 seconds RetCode: 0 Status: OK