Package: gep2pep Version: 1.27.0 Command: /home/biocbuild/bbs-3.21-bioc/R/bin/R CMD build --keep-empty-dirs --no-resave-data gep2pep StartedAt: 2025-02-09 17:24:35 -0500 (Sun, 09 Feb 2025) EndedAt: 2025-02-09 17:24:59 -0500 (Sun, 09 Feb 2025) EllapsedTime: 24.0 seconds RetCode: 0 Status: OK PackageFile: gep2pep_1.27.0.tar.gz PackageFileSize: 121.6 KiB