Package: gep2pep Version: 1.27.0 Command: /home/biocbuild/bbs-3.21-bioc/R/bin/R CMD check --install=check:gep2pep.install-out.txt --library=/home/biocbuild/bbs-3.21-bioc/R/site-library --timings gep2pep_1.27.0.tar.gz StartedAt: 2025-02-09 22:43:19 -0500 (Sun, 09 Feb 2025) EndedAt: 2025-02-09 22:45:43 -0500 (Sun, 09 Feb 2025) EllapsedTime: 144.2 seconds RetCode: 0 Status: OK CheckDir: gep2pep.Rcheck Warnings: 0