Package: gep2pep Version: 1.27.0 Command: rm -rf gep2pep.buildbin-libdir && mkdir gep2pep.buildbin-libdir && E:\biocbuild\bbs-3.21-bioc\R\bin\R.exe CMD INSTALL --build --library=gep2pep.buildbin-libdir gep2pep_1.27.0.tar.gz StartedAt: 2025-02-10 07:50:38 -0500 (Mon, 10 Feb 2025) EndedAt: 2025-02-10 07:51:09 -0500 (Mon, 10 Feb 2025) EllapsedTime: 30.3 seconds RetCode: 0 Status: OK PackageFile: gep2pep_1.27.0.zip PackageFileSize: 473.2 KiB