Package: gep2pep Version: 1.27.0 Command: E:\biocbuild\bbs-3.21-bioc\R\bin\R.exe CMD INSTALL gep2pep StartedAt: 2025-02-09 15:53:00 -0500 (Sun, 09 Feb 2025) EndedAt: 2025-02-09 15:53:31 -0500 (Sun, 09 Feb 2025) EllapsedTime: 30.5 seconds RetCode: 0 Status: OK