Package: geva Version: 1.15.0 Command: /Library/Frameworks/R.framework/Resources/bin/R CMD check --install=check:geva.install-out.txt --library=/Library/Frameworks/R.framework/Resources/library --no-vignettes --timings geva_1.15.0.tar.gz StartedAt: 2025-02-05 19:32:13 -0500 (Wed, 05 Feb 2025) EndedAt: 2025-02-05 19:33:20 -0500 (Wed, 05 Feb 2025) EllapsedTime: 66.8 seconds RetCode: 0 Status: OK CheckDir: geva.Rcheck Warnings: 0