Package: geva Version: 1.15.0 Command: rm -rf geva.buildbin-libdir && mkdir geva.buildbin-libdir && /Users/biocbuild/BBS/utils/build-universal.sh geva_1.15.0.tar.gz /Library/Frameworks/R.framework/Resources/bin/R geva.buildbin-libdir StartedAt: 2025-02-05 00:41:59 -0500 (Wed, 05 Feb 2025) EndedAt: 2025-02-05 00:42:10 -0500 (Wed, 05 Feb 2025) EllapsedTime: 11.6 seconds RetCode: 0 Status: OK PackageFile: geva_1.15.0.tgz PackageFileSize: 2.682 MiB