Package: geva Version: 1.15.0 Command: /Library/Frameworks/R.framework/Resources/bin/R CMD build --keep-empty-dirs --no-resave-data geva StartedAt: 2025-02-04 16:50:31 -0500 (Tue, 04 Feb 2025) EndedAt: 2025-02-04 16:52:34 -0500 (Tue, 04 Feb 2025) EllapsedTime: 122.7 seconds RetCode: 0 Status: OK PackageFile: geva_1.15.0.tar.gz PackageFileSize: 2.217 MiB