Package: geva Version: 1.15.0 Command: /Library/Frameworks/R.framework/Resources/bin/R CMD INSTALL geva StartedAt: 2025-02-04 15:05:40 -0500 (Tue, 04 Feb 2025) EndedAt: 2025-02-04 15:06:01 -0500 (Tue, 04 Feb 2025) EllapsedTime: 21.0 seconds RetCode: 0 Status: OK