Package: geva Version: 1.15.0 Command: /home/biocbuild/bbs-3.21-bioc/R/bin/R CMD check --install=check:geva.install-out.txt --library=/home/biocbuild/bbs-3.21-bioc/R/site-library --timings geva_1.15.0.tar.gz StartedAt: 2025-02-09 22:43:41 -0500 (Sun, 09 Feb 2025) EndedAt: 2025-02-09 22:48:01 -0500 (Sun, 09 Feb 2025) EllapsedTime: 259.5 seconds RetCode: 0 Status: OK CheckDir: geva.Rcheck Warnings: 0