Package: geva Version: 1.15.0 Command: /home/biocbuild/bbs-3.21-bioc/R/bin/R CMD INSTALL geva StartedAt: 2025-02-09 15:07:05 -0500 (Sun, 09 Feb 2025) EndedAt: 2025-02-09 15:07:34 -0500 (Sun, 09 Feb 2025) EllapsedTime: 30.0 seconds RetCode: 0 Status: OK