Package: geva Version: 1.15.0 Command: chmod a+r geva -R && E:\biocbuild\bbs-3.21-bioc\R\bin\R.exe CMD build --keep-empty-dirs --no-resave-data geva StartedAt: 2025-02-04 19:00:26 -0500 (Tue, 04 Feb 2025) EndedAt: 2025-02-04 19:05:59 -0500 (Tue, 04 Feb 2025) EllapsedTime: 333.1 seconds RetCode: 0 Status: OK PackageFile: geva_1.15.0.tar.gz PackageFileSize: 1016 KiB