Package: geva Version: 1.15.0 Command: E:\biocbuild\bbs-3.21-bioc\R\bin\R.exe CMD INSTALL geva StartedAt: 2025-02-09 15:22:21 -0500 (Sun, 09 Feb 2025) EndedAt: 2025-02-09 15:23:04 -0500 (Sun, 09 Feb 2025) EllapsedTime: 42.9 seconds RetCode: 0 Status: OK