Package: geyser Version: 0.99.8 Command: rm -rf geyser.buildbin-libdir && mkdir geyser.buildbin-libdir && /Users/biocbuild/BBS/utils/build-universal.sh geyser_0.99.8.tar.gz /Library/Frameworks/R.framework/Resources/bin/R geyser.buildbin-libdir StartedAt: 2025-02-04 22:17:56 -0500 (Tue, 04 Feb 2025) EndedAt: 2025-02-04 22:18:07 -0500 (Tue, 04 Feb 2025) EllapsedTime: 11.3 seconds RetCode: 0 Status: OK PackageFile: geyser_0.99.8.tgz PackageFileSize: 1.323 MiB