Package: geyser Version: 0.99.8 Command: /Library/Frameworks/R.framework/Resources/bin/R CMD INSTALL geyser StartedAt: 2025-02-04 15:16:08 -0500 (Tue, 04 Feb 2025) EndedAt: 2025-02-04 15:16:18 -0500 (Tue, 04 Feb 2025) EllapsedTime: 10.1 seconds RetCode: 0 Status: OK