Package: geyser Version: 0.99.8 Command: /home/biocbuild/R/R/bin/R CMD build --keep-empty-dirs --no-resave-data geyser StartedAt: 2025-01-28 23:11:47 -0000 (Tue, 28 Jan 2025) EndedAt: 2025-01-28 23:12:40 -0000 (Tue, 28 Jan 2025) EllapsedTime: 53.0 seconds RetCode: 0 Status: OK PackageFile: geyser_0.99.8.tar.gz PackageFileSize: 2.302 MiB