Package: geyser Version: 0.99.8 Command: /home/biocbuild/R/R/bin/R CMD check --install=check:geyser.install-out.txt --library=/home/biocbuild/R/R/site-library --no-vignettes --timings geyser_0.99.8.tar.gz StartedAt: 2025-01-28 11:03:26 -0000 (Tue, 28 Jan 2025) EndedAt: 2025-01-28 11:07:31 -0000 (Tue, 28 Jan 2025) EllapsedTime: 245.1 seconds RetCode: 0 Status: OK CheckDir: geyser.Rcheck Warnings: 0