Package: geyser Version: 0.99.8 Command: /home/biocbuild/R/R/bin/R CMD INSTALL geyser StartedAt: 2025-01-29 20:07:44 -0000 (Wed, 29 Jan 2025) EndedAt: 2025-01-29 20:08:18 -0000 (Wed, 29 Jan 2025) EllapsedTime: 33.6 seconds RetCode: 0 Status: OK