Package: geyser Version: 0.99.8 Command: /Library/Frameworks/R.framework/Resources/bin/R CMD check --install=check:geyser.install-out.txt --library=/Library/Frameworks/R.framework/Resources/library --no-vignettes --timings geyser_0.99.8.tar.gz StartedAt: 2025-02-09 21:00:37 -0500 (Sun, 09 Feb 2025) EndedAt: 2025-02-09 21:03:55 -0500 (Sun, 09 Feb 2025) EllapsedTime: 198.6 seconds RetCode: 0 Status: OK CheckDir: geyser.Rcheck Warnings: 0