Package: geyser Version: 0.99.8 Command: /home/biocbuild/bbs-3.21-bioc/R/bin/R CMD check --install=check:geyser.install-out.txt --library=/home/biocbuild/bbs-3.21-bioc/R/site-library --timings geyser_0.99.8.tar.gz StartedAt: 2025-02-09 22:43:46 -0500 (Sun, 09 Feb 2025) EndedAt: 2025-02-09 22:46:53 -0500 (Sun, 09 Feb 2025) EllapsedTime: 187.2 seconds RetCode: 0 Status: OK CheckDir: geyser.Rcheck Warnings: 0