Package: geyser Version: 0.99.8 Command: rm -rf geyser.buildbin-libdir && mkdir geyser.buildbin-libdir && E:\biocbuild\bbs-3.21-bioc\R\bin\R.exe CMD INSTALL --build --library=geyser.buildbin-libdir geyser_0.99.8.tar.gz StartedAt: 2025-02-10 07:50:54 -0500 (Mon, 10 Feb 2025) EndedAt: 2025-02-10 07:51:21 -0500 (Mon, 10 Feb 2025) EllapsedTime: 27.1 seconds RetCode: 0 Status: OK PackageFile: geyser_0.99.8.zip PackageFileSize: 1.326 MiB