Package: geyser Version: 0.99.8 Command: chmod a+r geyser -R && E:\biocbuild\bbs-3.21-bioc\R\bin\R.exe CMD build --keep-empty-dirs --no-resave-data geyser StartedAt: 2025-02-09 18:57:44 -0500 (Sun, 09 Feb 2025) EndedAt: 2025-02-09 18:58:32 -0500 (Sun, 09 Feb 2025) EllapsedTime: 47.5 seconds RetCode: 0 Status: OK PackageFile: geyser_0.99.8.tar.gz PackageFileSize: 2.279 MiB