Package: gg4way Version: 1.5.0 Command: /Library/Frameworks/R.framework/Resources/bin/R CMD build --keep-empty-dirs --no-resave-data gg4way StartedAt: 2025-02-10 16:27:29 -0500 (Mon, 10 Feb 2025) EndedAt: 2025-02-10 16:28:01 -0500 (Mon, 10 Feb 2025) EllapsedTime: 32.3 seconds RetCode: 0 Status: OK PackageFile: gg4way_1.5.0.tar.gz PackageFileSize: 2.992 MiB